BEGIN:VCALENDAR
VERSION:2.0
PRODID:-//Tukios.com/
BEGIN:VEVENT
UID:bf3f5a66-6f82-4f81-a103-ec6864dd9080@www.nmbartlettfuneralhome.com
DTSTAMP:20260423T013931Z
DTSTART:20260502T140000Z
DTEND:20260502T143000Z
SUMMARY:Family Visitation
DESCRIPTION:
URL:https://www.nmbartlettfuneralhome.com/obituaries/gwendoline-copeland
LOCATION:God's Battalion of Prayer 661 Linden Blvd  Brooklyn NY 11203
GEO:40.6539157;-73.9339155
END:VEVENT
END:VCALENDAR