BEGIN:VCALENDAR
VERSION:2.0
PRODID:-//Tukios.com/
BEGIN:VEVENT
UID:4eb8df8e-c0fd-4b18-b1de-bf7aaf5a70d2@www.nmbartlettfuneralhome.com
DTSTAMP:20260423T014353Z
DTSTART:20260502T143000Z
DTEND:20260502T153000Z
SUMMARY:Public Viewing
DESCRIPTION:
URL:https://www.nmbartlettfuneralhome.com/obituaries/gwendoline-copeland
LOCATION:God's Battalion of Prayer 661 Linden Blvd  Brooklyn NY 11203
GEO:40.6539157;-73.9339155
END:VEVENT
END:VCALENDAR