BEGIN:VCALENDAR
VERSION:2.0
PRODID:-//Tukios.com/
BEGIN:VEVENT
UID:0ec58a5e-cc9a-48d1-b13d-cd0efb21a8c1@www.nmbartlettfuneralhome.com
DTSTAMP:20260423T014411Z
DTSTART:20260502T153000Z
DTEND:20260502T180000Z
SUMMARY:Celebration of Life
DESCRIPTION:
URL:https://www.nmbartlettfuneralhome.com/obituaries/gwendoline-copeland
LOCATION:God's Battalion of Prayer 661 Linden Blvd  Brooklyn NY 11203
GEO:40.6539157;-73.9339155
END:VEVENT
END:VCALENDAR