BEGIN:VCALENDAR
VERSION:2.0
PRODID:-//Tukios.com/
BEGIN:VEVENT
UID:6ac71fa7-cd94-4acf-b41d-decf386830e9@www.nmbartlettfuneralhome.com
DTSTAMP:20260423T014215Z
DTSTART:20260508
SUMMARY:Interment
DESCRIPTION:
URL:https://www.nmbartlettfuneralhome.com/obituaries/gwendoline-copeland
LOCATION:Christiansburg Cemetery Linden Guyana  Guyana  00000
GEO:6.0116099;-58.3089574
END:VEVENT
END:VCALENDAR