BEGIN:VCALENDAR
VERSION:2.0
PRODID:-//Tukios.com/
BEGIN:VEVENT
UID:2dd25269-5c17-4586-848e-d4bedfa33746@www.nmbartlettfuneralhome.com
DTSTAMP:20260423T014140Z
DTSTART:20260430T140000Z
DTEND:20260430T160000Z
SUMMARY:Viewing Only
DESCRIPTION:
URL:https://www.nmbartlettfuneralhome.com/obituaries/lewis-pace-jr
LOCATION: 4406 Germantown Ave  Philadelphia PA 19140
GEO:40.0211495;-75.157927
END:VEVENT
END:VCALENDAR